Package: TimiRGeN Version: 1.14.0 Command: E:\biocbuild\bbs-3.19-bioc\R\bin\R.exe CMD INSTALL TimiRGeN StartedAt: 2024-10-16 16:59:08 -0400 (Wed, 16 Oct 2024) EndedAt: 2024-10-16 17:00:12 -0400 (Wed, 16 Oct 2024) EllapsedTime: 64.0 seconds RetCode: 0 Status: OK