Package: TimiRGeN Version: 1.14.0 Command: E:\biocbuild\bbs-3.19-bioc\R\bin\R.exe CMD check --no-multiarch --install=check:TimiRGeN.install-out.txt --library=E:\biocbuild\bbs-3.19-bioc\R\library --no-vignettes --timings TimiRGeN_1.14.0.tar.gz StartedAt: 2024-10-17 06:31:48 -0400 (Thu, 17 Oct 2024) EndedAt: 2024-10-17 06:42:29 -0400 (Thu, 17 Oct 2024) EllapsedTime: 640.3 seconds RetCode: 1 Status: ERROR CheckDir: TimiRGeN.Rcheck Warnings: NA