Package: TimiRGeN Version: 1.14.0 Command: chmod a+r TimiRGeN -R && E:\biocbuild\bbs-3.19-bioc\R\bin\R.exe CMD build --keep-empty-dirs --no-resave-data TimiRGeN StartedAt: 2024-10-16 22:21:40 -0400 (Wed, 16 Oct 2024) EndedAt: 2024-10-16 22:23:06 -0400 (Wed, 16 Oct 2024) EllapsedTime: 86.1 seconds RetCode: 0 Status: OK PackageFile: TimiRGeN_1.14.0.tar.gz PackageFileSize: 4.323 MiB