Package: TimiRGeN Version: 1.14.0 Command: F:\biocbuild\bbs-3.19-bioc\R\bin\R.exe CMD INSTALL TimiRGeN StartedAt: 2024-06-26 16:32:01 -0400 (Wed, 26 Jun 2024) EndedAt: 2024-06-26 16:32:59 -0400 (Wed, 26 Jun 2024) EllapsedTime: 58.0 seconds RetCode: 0 Status: OK