Package: TimiRGeN Version: 1.14.0 Command: /home/biocbuild/bbs-3.19-bioc/R/bin/R CMD INSTALL TimiRGeN StartedAt: 2024-10-16 16:30:17 -0400 (Wed, 16 Oct 2024) EndedAt: 2024-10-16 16:31:06 -0400 (Wed, 16 Oct 2024) EllapsedTime: 48.9 seconds RetCode: 0 Status: OK