Package: TimiRGeN Version: 1.14.0 Command: /home/biocbuild/bbs-3.19-bioc/R/bin/R CMD build --keep-empty-dirs --no-resave-data TimiRGeN StartedAt: 2024-10-16 21:11:26 -0400 (Wed, 16 Oct 2024) EndedAt: 2024-10-16 21:12:33 -0400 (Wed, 16 Oct 2024) EllapsedTime: 67.2 seconds RetCode: 0 Status: OK PackageFile: TimiRGeN_1.14.0.tar.gz PackageFileSize: 4.323 MiB