Package: TimiRGeN Version: 1.14.0 Command: rm -rf TimiRGeN.buildbin-libdir && mkdir TimiRGeN.buildbin-libdir && /Users/biocbuild/BBS/utils/build-universal.sh TimiRGeN_1.14.0.tar.gz /Library/Frameworks/R.framework/Resources/bin/R TimiRGeN.buildbin-libdir StartedAt: 2024-10-17 17:21:48 -0400 (Thu, 17 Oct 2024) EndedAt: 2024-10-17 17:24:23 -0400 (Thu, 17 Oct 2024) EllapsedTime: 155.4 seconds RetCode: 0 Status: OK PackageFile: TimiRGeN_1.14.0.tgz PackageFileSize: 2.822 MiB