Package: TimiRGeN Version: 1.14.0 Command: /Library/Frameworks/R.framework/Resources/bin/R CMD check --install=check:TimiRGeN.install-out.txt --library=/Library/Frameworks/R.framework/Resources/library --no-vignettes --timings TimiRGeN_1.14.0.tar.gz StartedAt: 2024-06-09 23:34:07 -0400 (Sun, 09 Jun 2024) EndedAt: 2024-06-09 23:43:47 -0400 (Sun, 09 Jun 2024) EllapsedTime: 579.3 seconds RetCode: 1 Status: ERROR CheckDir: TimiRGeN.Rcheck Warnings: NA