Package: TimiRGeN Version: 1.14.0 Command: /Library/Frameworks/R.framework/Resources/bin/R CMD build --keep-empty-dirs --no-resave-data TimiRGeN StartedAt: 2024-06-09 18:26:24 -0400 (Sun, 09 Jun 2024) EndedAt: 2024-06-09 18:28:06 -0400 (Sun, 09 Jun 2024) EllapsedTime: 101.6 seconds RetCode: 0 Status: OK PackageFile: TimiRGeN_1.14.0.tar.gz PackageFileSize: 4.323 MiB