Package: TileDBArray Version: 1.14.1 Command: E:\biocbuild\bbs-3.19-bioc\R\bin\R.exe CMD INSTALL TileDBArray StartedAt: 2024-10-16 16:17:56 -0400 (Wed, 16 Oct 2024) EndedAt: 2024-10-16 16:18:42 -0400 (Wed, 16 Oct 2024) EllapsedTime: 46.5 seconds RetCode: 0 Status: OK