Package: TileDBArray Version: 1.14.1 Command: chmod a+r TileDBArray -R && E:\biocbuild\bbs-3.19-bioc\R\bin\R.exe CMD build --keep-empty-dirs --no-resave-data TileDBArray StartedAt: 2024-10-16 22:21:08 -0400 (Wed, 16 Oct 2024) EndedAt: 2024-10-16 22:22:03 -0400 (Wed, 16 Oct 2024) EllapsedTime: 55.0 seconds RetCode: 0 Status: OK PackageFile: TileDBArray_1.14.1.tar.gz PackageFileSize: 307.3 KiB