Package: TileDBArray Version: 1.14.1 Command: rm -rf TileDBArray.buildbin-libdir && mkdir TileDBArray.buildbin-libdir && E:\biocbuild\bbs-3.19-bioc\R\bin\R.exe CMD INSTALL --build --library=TileDBArray.buildbin-libdir TileDBArray_1.14.1.tar.gz StartedAt: 2024-10-17 08:46:59 -0400 (Thu, 17 Oct 2024) EndedAt: 2024-10-17 08:47:50 -0400 (Thu, 17 Oct 2024) EllapsedTime: 51.3 seconds RetCode: 0 Status: OK PackageFile: TileDBArray_1.14.1.zip PackageFileSize: 1.027 MiB