Package: TileDBArray Version: 1.14.1 Command: /Library/Frameworks/R.framework/Resources/bin/R CMD INSTALL TileDBArray StartedAt: 2024-10-16 15:23:03 -0400 (Wed, 16 Oct 2024) EndedAt: 2024-10-16 15:24:06 -0400 (Wed, 16 Oct 2024) EllapsedTime: 62.9 seconds RetCode: 0 Status: OK