Package: TileDBArray Version: 1.14.0 Command: /Library/Frameworks/R.framework/Resources/bin/R CMD check --install=check:TileDBArray.install-out.txt --library=/Library/Frameworks/R.framework/Resources/library --no-vignettes --timings TileDBArray_1.14.0.tar.gz StartedAt: 2024-08-26 13:24:52 -0400 (Mon, 26 Aug 2024) EndedAt: 2024-08-26 13:30:16 -0400 (Mon, 26 Aug 2024) EllapsedTime: 323.7 seconds RetCode: 0 Status: OK CheckDir: TileDBArray.Rcheck Warnings: 0