Package: TileDBArray Version: 1.14.1 Command: /Library/Frameworks/R.framework/Resources/bin/R CMD build --keep-empty-dirs --no-resave-data TileDBArray StartedAt: 2024-10-16 23:58:53 -0400 (Wed, 16 Oct 2024) EndedAt: 2024-10-17 00:00:18 -0400 (Thu, 17 Oct 2024) EllapsedTime: 85.4 seconds RetCode: 1 Status: ERROR PackageFile: None PackageFileSize: NA