Package: TileDBArray Version: 1.14.0 Command: rm -rf TileDBArray.buildbin-libdir && mkdir TileDBArray.buildbin-libdir && /Users/biocbuild/BBS/utils/build-universal.sh TileDBArray_1.14.0.tar.gz /Library/Frameworks/R.framework/Resources/bin/R TileDBArray.buildbin-libdir StartedAt: 2024-08-26 16:07:40 -0400 (Mon, 26 Aug 2024) EndedAt: 2024-08-26 16:08:51 -0400 (Mon, 26 Aug 2024) EllapsedTime: 70.3 seconds RetCode: 0 Status: OK PackageFile: TileDBArray_1.14.0.tgz PackageFileSize: 738.3 KiB