Package: TileDBArray Version: 1.14.1 Maintainer: Aaron Lun MaintainerEmail: infinite.monkeys.with.keyboards at gmail.com git_url: https://git.bioconductor.org/packages/TileDBArray git_branch: RELEASE_3_19 git_last_commit: d64fc4f git_last_commit_date: 2024-09-07 01:07:42 -0400 (Sat, 07 Sep 2024)