Package: TargetSearch Version: 2.6.2 Command: chmod a+r TargetSearch -R && E:\biocbuild\bbs-3.19-bioc\R\bin\R.exe CMD build --keep-empty-dirs --no-resave-data TargetSearch StartedAt: 2024-10-16 22:17:53 -0400 (Wed, 16 Oct 2024) EndedAt: 2024-10-16 22:19:13 -0400 (Wed, 16 Oct 2024) EllapsedTime: 79.6 seconds RetCode: 0 Status: OK PackageFile: TargetSearch_2.6.2.tar.gz PackageFileSize: 718.1 KiB