Package: TargetSearch Version: 2.6.2 Command: chmod a+r TargetSearch -R && F:\biocbuild\bbs-3.19-bioc\R\bin\R.exe CMD build --keep-empty-dirs --no-resave-data TargetSearch StartedAt: 2024-06-26 22:19:45 -0400 (Wed, 26 Jun 2024) EndedAt: 2024-06-26 22:21:07 -0400 (Wed, 26 Jun 2024) EllapsedTime: 81.2 seconds RetCode: 0 Status: OK PackageFile: TargetSearch_2.6.2.tar.gz PackageFileSize: 716.3 KiB