Package: TargetSearch Version: 2.6.2 Command: /home/biocbuild/bbs-3.19-bioc/R/bin/R CMD INSTALL TargetSearch StartedAt: 2024-10-16 15:52:50 -0400 (Wed, 16 Oct 2024) EndedAt: 2024-10-16 15:53:05 -0400 (Wed, 16 Oct 2024) EllapsedTime: 14.7 seconds RetCode: 0 Status: OK