Package: TargetSearch Version: 2.6.2 Command: /home/biocbuild/bbs-3.19-bioc/R/bin/R CMD build --keep-empty-dirs --no-resave-data TargetSearch StartedAt: 2024-10-16 21:08:16 -0400 (Wed, 16 Oct 2024) EndedAt: 2024-10-16 21:08:41 -0400 (Wed, 16 Oct 2024) EllapsedTime: 25.1 seconds RetCode: 0 Status: OK PackageFile: TargetSearch_2.6.2.tar.gz PackageFileSize: 717.4 KiB