Package: TargetSearch Version: 2.6.0 Command: /home/biocbuild/R/R-beta-2024-04-15_r86425/bin/R CMD build --keep-empty-dirs --no-resave-data TargetSearch StartedAt: 2024-05-09 04:03:47 -0000 (Thu, 09 May 2024) EndedAt: 2024-05-09 04:04:16 -0000 (Thu, 09 May 2024) EllapsedTime: 29.0 seconds RetCode: 0 Status: OK PackageFile: TargetSearch_2.6.0.tar.gz PackageFileSize: 689.6 KiB