Package: TargetSearch Version: 2.6.2 Command: /Library/Frameworks/R.framework/Resources/bin/R CMD INSTALL TargetSearch StartedAt: 2024-10-16 15:46:54 -0400 (Wed, 16 Oct 2024) EndedAt: 2024-10-16 15:47:04 -0400 (Wed, 16 Oct 2024) EllapsedTime: 9.8 seconds RetCode: 0 Status: OK