Package: TargetScore Version: 1.42.0 Command: E:\biocbuild\bbs-3.19-bioc\R\bin\R.exe CMD INSTALL TargetScore StartedAt: 2024-10-16 16:07:08 -0400 (Wed, 16 Oct 2024) EndedAt: 2024-10-16 16:07:23 -0400 (Wed, 16 Oct 2024) EllapsedTime: 14.3 seconds RetCode: 0 Status: OK