Package: TargetScore Version: 1.42.0 Command: chmod a+r TargetScore -R && E:\biocbuild\bbs-3.19-bioc\R\bin\R.exe CMD build --keep-empty-dirs --no-resave-data TargetScore StartedAt: 2024-10-16 22:17:43 -0400 (Wed, 16 Oct 2024) EndedAt: 2024-10-16 22:18:11 -0400 (Wed, 16 Oct 2024) EllapsedTime: 28.3 seconds RetCode: 0 Status: OK PackageFile: TargetScore_1.42.0.tar.gz PackageFileSize: 1.228 MiB