Package: TargetScore Version: 1.42.0 Command: /Library/Frameworks/R.framework/Resources/bin/R CMD INSTALL TargetScore StartedAt: 2024-10-16 15:50:32 -0400 (Wed, 16 Oct 2024) EndedAt: 2024-10-16 15:50:39 -0400 (Wed, 16 Oct 2024) EllapsedTime: 7.1 seconds RetCode: 0 Status: OK