Package: TargetDecoy Version: 1.10.0 Command: E:\biocbuild\bbs-3.19-bioc\R\bin\R.exe CMD check --no-multiarch --install=check:TargetDecoy.install-out.txt --library=E:\biocbuild\bbs-3.19-bioc\R\library --no-vignettes --timings TargetDecoy_1.10.0.tar.gz StartedAt: 2024-10-17 06:24:51 -0400 (Thu, 17 Oct 2024) EndedAt: 2024-10-17 06:26:28 -0400 (Thu, 17 Oct 2024) EllapsedTime: 96.9 seconds RetCode: 0 Status: OK CheckDir: TargetDecoy.Rcheck Warnings: 0