Package: TargetDecoy Version: 1.10.0 Command: F:\biocbuild\bbs-3.19-bioc\R\bin\R.exe CMD INSTALL TargetDecoy StartedAt: 2024-06-26 16:50:21 -0400 (Wed, 26 Jun 2024) EndedAt: 2024-06-26 16:50:36 -0400 (Wed, 26 Jun 2024) EllapsedTime: 15.2 seconds RetCode: 0 Status: OK