Package: TargetDecoy Version: 1.10.0 Command: /home/biocbuild/bbs-3.19-bioc/R/bin/R CMD build --keep-empty-dirs --no-resave-data TargetDecoy StartedAt: 2024-10-16 21:08:02 -0400 (Wed, 16 Oct 2024) EndedAt: 2024-10-16 21:08:36 -0400 (Wed, 16 Oct 2024) EllapsedTime: 34.1 seconds RetCode: 0 Status: OK PackageFile: TargetDecoy_1.10.0.tar.gz PackageFileSize: 3.947 MiB