Package: TargetDecoy Version: 1.10.0 Command: /Library/Frameworks/R.framework/Resources/bin/R CMD INSTALL TargetDecoy StartedAt: 2024-10-16 16:46:58 -0400 (Wed, 16 Oct 2024) EndedAt: 2024-10-16 16:47:18 -0400 (Wed, 16 Oct 2024) EllapsedTime: 20.3 seconds RetCode: 0 Status: OK