Package: TargetDecoy Version: 1.10.0 Command: /Library/Frameworks/R.framework/Resources/bin/R CMD build --keep-empty-dirs --no-resave-data TargetDecoy StartedAt: 2024-10-16 23:53:35 -0400 (Wed, 16 Oct 2024) EndedAt: 2024-10-16 23:55:10 -0400 (Wed, 16 Oct 2024) EllapsedTime: 94.6 seconds RetCode: 0 Status: OK PackageFile: TargetDecoy_1.10.0.tar.gz PackageFileSize: 4.172 MiB