Package: TVTB Version: 1.30.1 Command: /home/biocbuild/bbs-3.19-bioc/R/bin/R CMD build --keep-empty-dirs --no-resave-data TVTB StartedAt: 2024-10-16 21:15:33 -0400 (Wed, 16 Oct 2024) EndedAt: 2024-10-16 21:17:13 -0400 (Wed, 16 Oct 2024) EllapsedTime: 100.2 seconds RetCode: 0 Status: OK PackageFile: TVTB_1.30.1.tar.gz PackageFileSize: 1.421 MiB