Package: TVTB Version: 1.30.1 Command: /Library/Frameworks/R.framework/Resources/bin/R CMD build --keep-empty-dirs --no-resave-data TVTB StartedAt: 2024-10-17 00:07:39 -0400 (Thu, 17 Oct 2024) EndedAt: 2024-10-17 00:11:41 -0400 (Thu, 17 Oct 2024) EllapsedTime: 242.1 seconds RetCode: 0 Status: OK PackageFile: TVTB_1.30.1.tar.gz PackageFileSize: 1.449 MiB