Package: TTMap Version: 1.26.0 Command: E:\biocbuild\bbs-3.19-bioc\R\bin\R.exe CMD INSTALL TTMap StartedAt: 2024-10-16 16:42:59 -0400 (Wed, 16 Oct 2024) EndedAt: 2024-10-16 16:43:27 -0400 (Wed, 16 Oct 2024) EllapsedTime: 27.4 seconds RetCode: 0 Status: OK