Package: TTMap Version: 1.26.0 Command: chmod a+r TTMap -R && F:\biocbuild\bbs-3.19-bioc\R\bin\R.exe CMD build --keep-empty-dirs --no-resave-data TTMap StartedAt: 2024-06-26 22:28:45 -0400 (Wed, 26 Jun 2024) EndedAt: 2024-06-26 22:29:48 -0400 (Wed, 26 Jun 2024) EllapsedTime: 62.8 seconds RetCode: 0 Status: OK PackageFile: TTMap_1.26.0.tar.gz PackageFileSize: 1.612 MiB