Package: TTMap Version: 1.26.0 Command: /home/biocbuild/bbs-3.19-bioc/R/bin/R CMD INSTALL TTMap StartedAt: 2024-10-16 16:18:56 -0400 (Wed, 16 Oct 2024) EndedAt: 2024-10-16 16:19:19 -0400 (Wed, 16 Oct 2024) EllapsedTime: 22.5 seconds RetCode: 0 Status: OK