Package: TTMap Version: 1.26.0 Command: /home/biocbuild/bbs-3.19-bioc/R/bin/R CMD check --install=check:TTMap.install-out.txt --library=/home/biocbuild/bbs-3.19-bioc/R/site-library --timings TTMap_1.26.0.tar.gz StartedAt: 2024-10-17 06:08:16 -0400 (Thu, 17 Oct 2024) EndedAt: 2024-10-17 06:11:51 -0400 (Thu, 17 Oct 2024) EllapsedTime: 215.5 seconds RetCode: 0 Status: OK CheckDir: TTMap.Rcheck Warnings: 0