Package: TTMap Version: 1.26.0 Command: /home/biocbuild/bbs-3.19-bioc/R/bin/R CMD build --keep-empty-dirs --no-resave-data TTMap StartedAt: 2024-10-16 21:15:27 -0400 (Wed, 16 Oct 2024) EndedAt: 2024-10-16 21:16:13 -0400 (Wed, 16 Oct 2024) EllapsedTime: 46.1 seconds RetCode: 0 Status: OK PackageFile: TTMap_1.26.0.tar.gz PackageFileSize: 1.61 MiB