Package: TTMap Version: 1.26.0 Command: /Library/Frameworks/R.framework/Resources/bin/R CMD check --install=check:TTMap.install-out.txt --library=/Library/Frameworks/R.framework/Resources/library --no-vignettes --timings TTMap_1.26.0.tar.gz StartedAt: 2024-10-17 14:46:56 -0400 (Thu, 17 Oct 2024) EndedAt: 2024-10-17 14:55:33 -0400 (Thu, 17 Oct 2024) EllapsedTime: 517.2 seconds RetCode: 0 Status: OK CheckDir: TTMap.Rcheck Warnings: 0