Package: TTMap Version: 1.26.0 Command: /home/biocbuild/R/R-beta-2024-04-15_r86425/bin/R CMD check --install=check:TTMap.install-out.txt --library=/home/biocbuild/R/R-beta-2024-04-15_r86425/site-library --no-vignettes --timings TTMap_1.26.0.tar.gz StartedAt: 2024-05-08 12:56:51 -0000 (Wed, 08 May 2024) EndedAt: 2024-05-08 13:01:16 -0000 (Wed, 08 May 2024) EllapsedTime: 264.6 seconds RetCode: 0 Status: OK CheckDir: TTMap.Rcheck Warnings: 0