Package: TTMap Version: 1.26.0 Command: /home/biocbuild/R/R-beta-2024-04-15_r86425/bin/R CMD build --keep-empty-dirs --no-resave-data TTMap StartedAt: 2024-05-09 04:13:46 -0000 (Thu, 09 May 2024) EndedAt: 2024-05-09 04:14:48 -0000 (Thu, 09 May 2024) EllapsedTime: 62.1 seconds RetCode: 0 Status: OK PackageFile: TTMap_1.26.0.tar.gz PackageFileSize: 1.605 MiB