Package: TSCAN Version: 1.42.0 Command: /Library/Frameworks/R.framework/Resources/bin/R CMD INSTALL TSCAN StartedAt: 2024-10-16 16:00:03 -0400 (Wed, 16 Oct 2024) EndedAt: 2024-10-16 16:01:04 -0400 (Wed, 16 Oct 2024) EllapsedTime: 60.6 seconds RetCode: 0 Status: OK