Package: TSCAN Version: 1.42.0 Command: /Library/Frameworks/R.framework/Resources/bin/R CMD build --keep-empty-dirs --no-resave-data TSCAN StartedAt: 2024-10-17 00:07:02 -0400 (Thu, 17 Oct 2024) EndedAt: 2024-10-17 00:08:46 -0400 (Thu, 17 Oct 2024) EllapsedTime: 103.8 seconds RetCode: 0 Status: OK PackageFile: TSCAN_1.42.0.tar.gz PackageFileSize: 2.677 MiB