Package: TSCAN Version: 1.42.0 Command: /Library/Frameworks/R.framework/Resources/bin/R CMD check --install=check:TSCAN.install-out.txt --library=/Library/Frameworks/R.framework/Resources/library --no-vignettes --timings TSCAN_1.42.0.tar.gz StartedAt: 2024-06-09 23:41:40 -0400 (Sun, 09 Jun 2024) EndedAt: 2024-06-09 23:45:46 -0400 (Sun, 09 Jun 2024) EllapsedTime: 246.2 seconds RetCode: 0 Status: WARNINGS CheckDir: TSCAN.Rcheck Warnings: 1