Package: TSCAN Version: 1.42.0 Command: /Library/Frameworks/R.framework/Resources/bin/R CMD check --install=check:TSCAN.install-out.txt --library=/Library/Frameworks/R.framework/Resources/library --no-vignettes --timings TSCAN_1.42.0.tar.gz StartedAt: 2024-10-18 15:59:20 -0400 (Fri, 18 Oct 2024) EndedAt: 2024-10-18 16:04:08 -0400 (Fri, 18 Oct 2024) EllapsedTime: 288.5 seconds RetCode: 0 Status: WARNINGS CheckDir: TSCAN.Rcheck Warnings: 1