Package: TSAR Version: 1.2.0 Command: chmod a+r TSAR -R && E:\biocbuild\bbs-3.19-bioc\R\bin\R.exe CMD build --keep-empty-dirs --no-resave-data TSAR StartedAt: 2024-10-16 22:26:15 -0400 (Wed, 16 Oct 2024) EndedAt: 2024-10-16 22:29:06 -0400 (Wed, 16 Oct 2024) EllapsedTime: 171.5 seconds RetCode: 0 Status: OK PackageFile: TSAR_1.2.0.tar.gz PackageFileSize: 3.548 MiB