Package: TSAR Version: 1.2.0 Command: rm -rf TSAR.buildbin-libdir && mkdir TSAR.buildbin-libdir && E:\biocbuild\bbs-3.19-bioc\R\bin\R.exe CMD INSTALL --build --library=TSAR.buildbin-libdir TSAR_1.2.0.tar.gz StartedAt: 2024-10-17 08:49:14 -0400 (Thu, 17 Oct 2024) EndedAt: 2024-10-17 08:49:44 -0400 (Thu, 17 Oct 2024) EllapsedTime: 29.8 seconds RetCode: 0 Status: OK PackageFile: TSAR_1.2.0.zip PackageFileSize: 3.486 MiB