Package: TSAR Version: 1.2.0 Command: F:\biocbuild\bbs-3.19-bioc\R\bin\R.exe CMD INSTALL TSAR StartedAt: 2024-06-26 16:51:08 -0400 (Wed, 26 Jun 2024) EndedAt: 2024-06-26 16:51:32 -0400 (Wed, 26 Jun 2024) EllapsedTime: 23.7 seconds RetCode: 0 Status: OK