Package: TSAR Version: 1.2.0 Command: chmod a+r TSAR -R && F:\biocbuild\bbs-3.19-bioc\R\bin\R.exe CMD build --keep-empty-dirs --no-resave-data TSAR StartedAt: 2024-06-26 22:28:32 -0400 (Wed, 26 Jun 2024) EndedAt: 2024-06-26 22:31:34 -0400 (Wed, 26 Jun 2024) EllapsedTime: 181.2 seconds RetCode: 0 Status: OK PackageFile: TSAR_1.2.0.tar.gz PackageFileSize: 3.548 MiB