Package: TSAR Version: 1.2.0 Command: /home/biocbuild/bbs-3.19-bioc/R/bin/R CMD INSTALL TSAR StartedAt: 2024-10-16 16:45:32 -0400 (Wed, 16 Oct 2024) EndedAt: 2024-10-16 16:45:42 -0400 (Wed, 16 Oct 2024) EllapsedTime: 10.2 seconds RetCode: 0 Status: OK